BEGIN:VCALENDAR
VERSION:2.0
PRODID:-//Restoration - ECPv6.15.20//NONSGML v1.0//EN
CALSCALE:GREGORIAN
METHOD:PUBLISH
X-ORIGINAL-URL:https://restorationplaza.org
X-WR-CALDESC:Events for Restoration
REFRESH-INTERVAL;VALUE=DURATION:PT1H
X-Robots-Tag:noindex
X-PUBLISHED-TTL:PT1H
BEGIN:VTIMEZONE
TZID:UTC
BEGIN:STANDARD
TZOFFSETFROM:+0000
TZOFFSETTO:+0000
TZNAME:UTC
DTSTART:20230101T000000
END:STANDARD
END:VTIMEZONE
BEGIN:VEVENT
DTSTART;TZID=UTC:20240905T100000
DTEND;TZID=UTC:20240905T140000
DTSTAMP:20260422T154534
CREATED:20240830T200943Z
LAST-MODIFIED:20240830T203120Z
UID:10001841-1725530400-1725544800@restorationplaza.org
SUMMARY:September Security Job Fair
DESCRIPTION:At this hiring event\, interview for a variety of security roles with City Safe Partners. Pay ranges from $16 to $40 per hour. \nRequirements: \n•  F01\, \n•  F02\, \n•  F80\, or \n•  NY State Driver License\, if you don’t possess any F licenses \nRegister to join. \n  \nAbout Restoration Workforce Development\nRestoration employment specialists provide jobseekers with free resume review and interview coaching\, plus aftercare support.
URL:https://restorationplaza.org/events/security-hiring-event-sept-05-2024/
LOCATION:Restoration Plaza\, 1368 Fulton St\, Brooklyn\, NY\, 11216\, United States
CATEGORIES:Center for Personal Financial Health
ATTACH;FMTTYPE=image/png:https://restorationplaza.org/wp-content/uploads/2024/06/security.png
END:VEVENT
END:VCALENDAR